BEGIN:VCALENDAR
VERSION:2.0
PRODID:-//Versoix égalité - ECPv6.15.16//NONSGML v1.0//EN
CALSCALE:GREGORIAN
METHOD:PUBLISH
X-WR-CALNAME:Versoix égalité
X-ORIGINAL-URL:https://versoixegalite.ch
X-WR-CALDESC:Évènements pour Versoix égalité
REFRESH-INTERVAL;VALUE=DURATION:PT1H
X-Robots-Tag:noindex
X-PUBLISHED-TTL:PT1H
BEGIN:VTIMEZONE
TZID:Europe/Zurich
BEGIN:DAYLIGHT
TZOFFSETFROM:+0100
TZOFFSETTO:+0200
TZNAME:CEST
DTSTART:20250330T010000
END:DAYLIGHT
BEGIN:STANDARD
TZOFFSETFROM:+0200
TZOFFSETTO:+0100
TZNAME:CET
DTSTART:20251026T010000
END:STANDARD
BEGIN:DAYLIGHT
TZOFFSETFROM:+0100
TZOFFSETTO:+0200
TZNAME:CEST
DTSTART:20260329T010000
END:DAYLIGHT
BEGIN:STANDARD
TZOFFSETFROM:+0200
TZOFFSETTO:+0100
TZNAME:CET
DTSTART:20261025T010000
END:STANDARD
BEGIN:DAYLIGHT
TZOFFSETFROM:+0100
TZOFFSETTO:+0200
TZNAME:CEST
DTSTART:20270328T010000
END:DAYLIGHT
BEGIN:STANDARD
TZOFFSETFROM:+0200
TZOFFSETTO:+0100
TZNAME:CET
DTSTART:20271031T010000
END:STANDARD
END:VTIMEZONE
BEGIN:VEVENT
DTSTART;TZID=Europe/Zurich:20260306T194500
DTEND;TZID=Europe/Zurich:20260306T213000
DTSTAMP:20260422T105313
CREATED:20260222T132625Z
LAST-MODIFIED:20260222T134111Z
UID:30998-1772826300-1772832600@versoixegalite.ch
SUMMARY:Ciné-club: La Petite dernière
DESCRIPTION:Projection du film La Petite dernière de Hafsia Herzi\, 2025 \nFatima\, 17 ans\, est la petite dernière. Elle vit en banlieue avec ses sœurs\, dans une famille joyeuse et aimante. Alors que débute sa vie de jeune femme\, elle se met alors à questionner son identité. Comment concilier sa foi avec ses désirs naissants ?
URL:https://versoixegalite.ch/event/la-petite-derniere/
LOCATION:CinéVersoix\, Chemin des Colombieres 4\, Versoix\, Switzerland
CATEGORIES:CINÉ-CLUB
ATTACH;FMTTYPE=image/jpeg:https://versoixegalite.ch/wp-content/uploads/2026/02/Cinema-2026-1.jpeg
END:VEVENT
END:VCALENDAR