BEGIN:VCALENDAR
VERSION:2.0
PRODID:-//Versoix égalité - ECPv6.15.16//NONSGML v1.0//EN
CALSCALE:GREGORIAN
METHOD:PUBLISH
X-ORIGINAL-URL:https://versoixegalite.ch
X-WR-CALDESC:Évènements pour Versoix égalité
REFRESH-INTERVAL;VALUE=DURATION:PT1H
X-Robots-Tag:noindex
X-PUBLISHED-TTL:PT1H
BEGIN:VTIMEZONE
TZID:Europe/Zurich
BEGIN:DAYLIGHT
TZOFFSETFROM:+0100
TZOFFSETTO:+0200
TZNAME:CEST
DTSTART:20220327T010000
END:DAYLIGHT
BEGIN:STANDARD
TZOFFSETFROM:+0200
TZOFFSETTO:+0100
TZNAME:CET
DTSTART:20221030T010000
END:STANDARD
BEGIN:DAYLIGHT
TZOFFSETFROM:+0100
TZOFFSETTO:+0200
TZNAME:CEST
DTSTART:20230326T010000
END:DAYLIGHT
BEGIN:STANDARD
TZOFFSETFROM:+0200
TZOFFSETTO:+0100
TZNAME:CET
DTSTART:20231029T010000
END:STANDARD
BEGIN:DAYLIGHT
TZOFFSETFROM:+0100
TZOFFSETTO:+0200
TZNAME:CEST
DTSTART:20240331T010000
END:DAYLIGHT
BEGIN:STANDARD
TZOFFSETFROM:+0200
TZOFFSETTO:+0100
TZNAME:CET
DTSTART:20241027T010000
END:STANDARD
END:VTIMEZONE
BEGIN:VEVENT
DTSTART;TZID=Europe/Zurich:20231108T183000
DTEND;TZID=Europe/Zurich:20231108T203000
DTSTAMP:20260421T064412
CREATED:20230918T103425Z
LAST-MODIFIED:20231018T082027Z
UID:29654-1699468200-1699475400@versoixegalite.ch
SUMMARY:Réunion du collectif Versoix égalité
DESCRIPTION:Préparation du 25 novembre – Journée internationale de lutte contre les violences faites aux femmes.
URL:https://versoixegalite.ch/event/reunion-du-collectif-versoix-egalite/
LOCATION:Aquarium du Boléro\, Chemin Jean-Baptiste Vandelle 8\, Versoix\, 1290\, Suisse
CATEGORIES:Réunion du collectif
ATTACH;FMTTYPE=image/jpeg:https://versoixegalite.ch/wp-content/uploads/2023/09/reunion2.jpg
END:VEVENT
BEGIN:VEVENT
DTSTART;TZID=Europe/Zurich:20231125T100000
DTEND;TZID=Europe/Zurich:20231125T130000
DTSTAMP:20260421T064412
CREATED:20230918T151512Z
LAST-MODIFIED:20230918T153219Z
UID:29662-1700906400-1700917200@versoixegalite.ch
SUMMARY:JOURNÉE INTERNATIONALE DE LUTTE CONTRE LES VIOLENCES FAITES AUX FEMMES
DESCRIPTION:Action à Versoix contre les violences faites aux femmes et minorités sexuelles.
URL:https://versoixegalite.ch/event/journee-internationale-de-lutte-contre-les-violences-faites-aux-femmes/
LOCATION:Place du marché\, Place de la Gare\, Versoix\, Suisse
CATEGORIES:ACTIONS
ATTACH;FMTTYPE=image/jpeg:https://versoixegalite.ch/wp-content/uploads/2020/03/IMG_9829-scaled.jpeg
END:VEVENT
END:VCALENDAR